BEGIN:VCALENDAR
PRODID:-//kirchenweb.ch gmbh//veranstaltungsausgabe v2.0//DE
VERSION:2.0
METHOD:PUBLISH
BEGIN:VEVENT
DTSTART;VALUE=DATE:20260810
DTEND;VALUE=DATE:20260811
LOCATION:unterwegs\, \,
TRANSP:OPAQUE
SEQUENCE:0
UID:39011-veranstaltung@kirche-thalwil.ch
DTSTAMP:20260415T135020Z
DESCRIPTION:In Bewegung sein – Neues und sich selbst entdecken. Jeden
  Tag\nbestimmen\, wohin die Reise geht: Karten lesen\, Route\,
  Aktivitäten und\nUnterkunft bestimmen. Campen\, einkaufen und chillen am
  Lagerfeuer.\nKomm’ mit und erlebe unvergessliche Tage in Gemeinschaft.
 \n\nKontakt: Selina Villavicencio\n\n\nWeitere Infos:
  https://www.kirche-thalwil.ch/veranstaltung/39011
SUMMARY:SommerBusCamp 10.-13.8.2026 (H2OT Jugend)
PRIORITY:5
X-MICROSOFT-CDO-IMPORTANCE:1
CLASS:PUBLIC
END:VEVENT
END:VCALENDAR
