BEGIN:VCALENDAR
PRODID:-//kirchenweb.ch gmbh//veranstaltungsausgabe v2.0//DE
VERSION:2.0
METHOD:PUBLISH
BEGIN:VEVENT
DTSTART:20260527T160000Z
DTEND:20260527T170000Z
LOCATION:Kirche\, Platte\, 8800 Thalwil
TRANSP:OPAQUE
SEQUENCE:0
UID:39006-veranstaltung@kirche-thalwil.ch
DTSTAMP:20260409T151814Z
DESCRIPTION:Kontakt: Angela Rothbrust\n\nWeitere Infos:
  https://www.kirche-thalwil.ch/veranstaltung/39006
SUMMARY:2.Klass-Unti Abschlussfeier
PRIORITY:5
X-MICROSOFT-CDO-IMPORTANCE:1
CLASS:PUBLIC
END:VEVENT
END:VCALENDAR
