BEGIN:VCALENDAR
PRODID:-//kirchenweb.ch gmbh//veranstaltungsausgabe v2.0//DE
VERSION:2.0
METHOD:PUBLISH
BEGIN:VEVENT
DTSTART:20260521T063000Z
DTEND:20260521T153000Z
LOCATION:Katholisches Pfarreizentrum\, Seehaldenstrasse 9\,
TRANSP:OPAQUE
SEQUENCE:0
UID:38954-veranstaltung@kirche-thalwil.ch
DTSTAMP:20260325T162231Z
DESCRIPTION:Fahrt mit Car nach Appenzell zum Mittagessen. Dazwischen
  Znüni-Halt.\n\nKontakt: Felix Känzig-Wolf\n\nWeitere Infos:
  https://www.kirche-thalwil.ch/veranstaltung/38954
SUMMARY:Ökumenischer Seniorenfrühjahrsausflug
PRIORITY:5
X-MICROSOFT-CDO-IMPORTANCE:1
CLASS:PUBLIC
END:VEVENT
END:VCALENDAR
