BEGIN:VCALENDAR
PRODID:-//kirchenweb.ch gmbh//veranstaltungsausgabe v2.0//DE
VERSION:2.0
METHOD:PUBLISH
BEGIN:VEVENT
DTSTART:20260614T130000Z
DTEND:20260614T180000Z
LOCATION:Yachtclub Horgen\, Hirsacherstrasse 37\, 8810 Horgen
TRANSP:OPAQUE
SEQUENCE:0
UID:38917-veranstaltung@kirche-thalwil.ch
DTSTAMP:20260401T124932Z
DESCRIPTION:Wir treffen uns im Yachtclub Horgen um 15 Uhr und
  beschäftigen uns mit einem Modul aus der ZAK-Jungleitenden-Ausbildung.
  Ab 16Uhr geniessen wir gemeinsam den Abend mit Grill&Chill\, sowie der
  Möglichkeit auf den See zu fahren.\nWir freuen uns auf euch! \n
 \nKontakt: Selina Villavicencio\n\nWeitere Infos:
  https://www.kirche-thalwil.ch/veranstaltung/38917
SUMMARY:ZAK 13+/16+ Event im Yachtclub Horgen
PRIORITY:5
X-MICROSOFT-CDO-IMPORTANCE:1
CLASS:PUBLIC
END:VEVENT
END:VCALENDAR
