BEGIN:VCALENDAR
PRODID:-//kirchenweb.ch gmbh//veranstaltungsausgabe v2.0//DE
VERSION:2.0
METHOD:PUBLISH
BEGIN:VEVENT
DTSTART:20260904T170000Z
DTEND:20260904T180000Z
LOCATION:Kirche\, \,
TRANSP:OPAQUE
SEQUENCE:0
UID:38914-veranstaltung@kirche-thalwil.ch
DTSTAMP:20260310T091042Z
DESCRIPTION:Andrea Isch\, Gerda Dillmann\, Klavier vierhändig\n\n
 \nThalwiler Konzerte in Zusammenarbeit mit politischer Gemeinde.\n\n\n
 \nKontakt: Gabriela Schöb\, Kantorin\n\nWeitere Infos:
  https://www.kirche-thalwil.ch/veranstaltung/38914
SUMMARY:Thalwiler Konzerte – Serenade Duo iDillIsch
PRIORITY:5
X-MICROSOFT-CDO-IMPORTANCE:1
CLASS:PUBLIC
END:VEVENT
END:VCALENDAR
