BEGIN:VCALENDAR
PRODID:-//kirchenweb.ch gmbh//veranstaltungsausgabe v2.0//DE
VERSION:2.0
METHOD:PUBLISH
BEGIN:VEVENT
DTSTART:20260604T160000Z
DTEND:20260604T173000Z
LOCATION:Kirche\, Platte\, 8800 Thalwil
TRANSP:OPAQUE
SEQUENCE:0
UID:38895-veranstaltung@kirche-thalwil.ch
DTSTAMP:20260303T101922Z
DESCRIPTION:Kontakt: Jürg-Markus Meier\n\nWeitere Infos:
  https://www.kirche-thalwil.ch/veranstaltung/38895
SUMMARY:Lese-Apéro
PRIORITY:5
X-MICROSOFT-CDO-IMPORTANCE:1
CLASS:PUBLIC
END:VEVENT
END:VCALENDAR
