BEGIN:VCALENDAR
PRODID:-//kirchenweb.ch gmbh//veranstaltungsausgabe v2.0//DE
VERSION:2.0
METHOD:PUBLISH
BEGIN:VEVENT
DTSTART:20260613T090000Z
DTEND:20260613T110000Z
LOCATION:Kirchturm\, \, 8800 Thalwil
TRANSP:OPAQUE
SEQUENCE:0
UID:38876-veranstaltung@kirche-thalwil.ch
DTSTAMP:20260206T131859Z
DESCRIPTION:Kontakt: Jürg-Markus Meier\n\nWeitere Infos:
  https://www.kirche-thalwil.ch/veranstaltung/38876
SUMMARY:Offener Kirchturm
PRIORITY:5
X-MICROSOFT-CDO-IMPORTANCE:1
CLASS:PUBLIC
END:VEVENT
END:VCALENDAR
