BEGIN:VCALENDAR
PRODID:-//kirchenweb.ch gmbh//veranstaltungsausgabe v2.0//DE
VERSION:2.0
METHOD:PUBLISH
BEGIN:VEVENT
DTSTART:20260929T173000Z
DTEND:20260929T183000Z
LOCATION:Katholisches Pfarreizentrum\, Seehaldenstrasse 9\, 8800 Thalwil
TRANSP:OPAQUE
SEQUENCE:0
UID:38747-veranstaltung@kirche-thalwil.ch
DTSTAMP:20260123T092232Z
DESCRIPTION:Kontakt: Galina Angelova\n\nWeitere Infos:
  https://www.kirche-thalwil.ch/veranstaltung/38747
SUMMARY:Planzeit - Programm 2027
PRIORITY:5
X-MICROSOFT-CDO-IMPORTANCE:1
CLASS:PUBLIC
END:VEVENT
END:VCALENDAR
