BEGIN:VCALENDAR
PRODID:-//kirchenweb.ch gmbh//veranstaltungsausgabe v2.0//DE
VERSION:2.0
METHOD:PUBLISH
BEGIN:VEVENT
DTSTART:20261116T173000Z
DTEND:20261116T190000Z
LOCATION:Katholisches Pfarreizentrum\, Seehaldenstrasse 9\, 8800 Thalwil
TRANSP:OPAQUE
SEQUENCE:0
UID:38740-veranstaltung@kirche-thalwil.ch
DTSTAMP:20260122T162909Z
DESCRIPTION:Kontakt: Galina Angelova\n\nWeitere Infos:
  https://www.kirche-thalwil.ch/veranstaltung/38740
SUMMARY:shibashi - Meditation in Bewegung
PRIORITY:5
X-MICROSOFT-CDO-IMPORTANCE:1
CLASS:PUBLIC
END:VEVENT
END:VCALENDAR
