BEGIN:VCALENDAR
PRODID:-//kirchenweb.ch gmbh//veranstaltungsausgabe v2.0//DE
VERSION:2.0
METHOD:PUBLISH
BEGIN:VEVENT
DTSTART:20270326T180000Z
DTEND:20270326T190000Z
LOCATION:Kirche\, \,
TRANSP:OPAQUE
SEQUENCE:0
UID:38431-veranstaltung@kirche-thalwil.ch
DTSTAMP:20260413T090448Z
DESCRIPTION:Thalwiler Konzerte\n\n\n\nKontakt: Gabriela Schöb\, Kantorin
 \n\nWeitere Infos: https://www.kirche-thalwil.ch/veranstaltung/38431
SUMMARY:Thalwiler Konzerte – Musik zum Karfreitag
PRIORITY:5
X-MICROSOFT-CDO-IMPORTANCE:1
CLASS:PUBLIC
END:VEVENT
END:VCALENDAR
