BEGIN:VCALENDAR
PRODID:-//kirchenweb.ch gmbh//veranstaltungsausgabe v2.0//DE
VERSION:2.0
METHOD:PUBLISH
BEGIN:VEVENT
DTSTART:20260512T120000Z
DTEND:20260512T140000Z
LOCATION:Kirchgemeindehaus\, alte Landstrasse\, 93a\,  Thalwil
TRANSP:OPAQUE
SEQUENCE:0
UID:38405-veranstaltung@kirche-thalwil.ch
DTSTAMP:20251203T135706Z
DESCRIPTION:Kontakt: Felix Känzig-Wolf\n\nWeitere Infos:
  https://www.kirche-thalwil.ch/veranstaltung/38405
SUMMARY:Lismi-Frauen
PRIORITY:5
X-MICROSOFT-CDO-IMPORTANCE:1
CLASS:PUBLIC
END:VEVENT
END:VCALENDAR
