BEGIN:VCALENDAR
PRODID:-//kirchenweb.ch gmbh//veranstaltungsausgabe v2.0//DE
VERSION:2.0
METHOD:PUBLISH
BEGIN:VEVENT
DTSTART:20261028T111500Z
DTEND:20261028T130000Z
LOCATION:Kirchgemeindehaus\, Alte Landstrasse 93a\, 8800 Thalwil
TRANSP:OPAQUE
SEQUENCE:0
UID:38176-veranstaltung@kirche-thalwil.ch
DTSTAMP:20260206T124642Z
DESCRIPTION:Kontakt: Felix Känzig-Wolf\n\nWeitere Infos:
  https://www.kirche-thalwil.ch/veranstaltung/38176
SUMMARY:Encontromittagessen der Ökumene
PRIORITY:5
X-MICROSOFT-CDO-IMPORTANCE:1
CLASS:PUBLIC
END:VEVENT
END:VCALENDAR
