BEGIN:VCALENDAR
PRODID:-//kirchenweb.ch gmbh//veranstaltungsausgabe v2.0//DE
VERSION:2.0
METHOD:PUBLISH
BEGIN:VEVENT
DTSTART:20260513T160000Z
DTEND:20260513T170000Z
LOCATION:Pilgerherbergen\, \,
TRANSP:OPAQUE
SEQUENCE:0
UID:38162-veranstaltung@kirche-thalwil.ch
DTSTAMP:20251107T141619Z
DESCRIPTION:Mittwoch\, 13. Mai 2026\, 18.00 Uhr\, bis Sonntag\, 17. Mai
  2026\, 20.00 Uhr\n\nJakobsweg mit dem Velo: Jugendliche von 16 bis 25
  pilgern mit dem Velo in einer ersten Etappe von Genf durch Frankreich.\n
 \nDie Idee dahinter:\nDer Jakobsweg lockt jedes Jahr Tausende von
  Pilger*Innen quer durch Frankreich über Nordspanien nach Santiago de
  Compostela. Als Jugendkirche (Alter 16 bis ca. 25) wollen wir diesen Weg
  nicht zu Fuss\, sondern als Velo-Pilgerinnen und Velo-Pilger
  zurücklegen. Die ca. 1'800 Km von Genf aus lassen sich in 5 Wochen
  aufteilen. Das sind ca. 50 Km pro Tag – mit dem Velo gut machbar.\n
 \nPilgern:\nAls Pilger versteht man Personen\, die sich mit den
  einfachsten Mitteln auf den Weg zu einem Wallfahrtsort macht. Dabei
  beschränkt sie sich auf das Notwendigste. Der Sinn der Pilgerreisen hat
  sich im Laufe der Zeit geändert. Im reformierten Verständnis geht es
  nicht um Ablass\, sondern geistliche Vertiefung\, Selbstfindung\,
  Neuorientierung oder einfach auch das Unterwegssein im Leben. So soll
  diese Velo-Reise nicht einfach eine sportliche Velo-Reise sein\, sondern
  ist bewusst auch als Velo-Pilgern zu verstehen: neben den
  jahrhundertalten Wegen durch Europa soll es auch Zeit für dieses
  «Pilgern» geben. Unterwegs erhält man jeweils einen Pilgerstempel\, um
  in Santiago de Compostela dann die Pilgerurkunde zu erhalten.\n\nErste
  Etappe und Vorbereitung:\nEine erste Etappe starten wir in Genf durch
  Frankreich. Wir haben dazu das Auffahrswochenende ausgewählt vom 13. Mai
  (Abend) bis 17 Mai 2026. Die genauen Tagesrouten\, die genauen
  Unterkünfte sowie die Art und Weise der Verpflegung werden wir gemeinsam
  besprechen und planen. Es gibt viele Pilgerherbergen auf der Route. Wenn
  etwas mehr Komfort gewünscht ist\, können wir auch auf Jugendherbergen
  ausweichen. Die Planung werden wir mit den bis März angemeldeten
  Personen durchführen. Natürlich kann man auch danach noch zur Gruppe
  dazu stossen.\n\nBegleitung:\nWährend der Reise werden wir
  voraussichtlich von einem kleinen Büssli begleitet\, das Gepäck und im
  Notfall auch Velos und wenige Teilnehmende mittransportieren kann. Wenn
  in der Vorbereitung aber der Wunsch aufkommt\, darauf zu verzichten\, ist
  das eine Möglichkeit. Leiten wird die Reise Jugendpfarrer Renato
  Pfeffer. Er hat persönlich schon Erfahrung in langen Velo-Reisen durch
  Europa und wird die Gruppe auch spirituell begleiten. Alle Teilnehmenden
  bringen ihre Profession mit und so haben wir auch einen Velo-Experten
  dabei für Notfall-Reparaturen und hoffentlich auch dein Fachwissen?\n
 \nKosten:\nDa die Kosten stark von der Unterkunft und den Essenswünschen
  abhängig sind\, lassen sich die noch nicht genau beziffern. Geht man von
  der tiefsten Klasse in Pilgerherbergen und einfachstem Essen aus\, werden
  es ca. 280 CHF nur für Unterkunft und Essen sein. Dazu kommt der Hin-
  und Rücktransport der Velos und Zugtickets. Ein Teil davon wird von der
  Kirche gesponsert. Die Kosten sind demnach auch davon abhängig\, was
  sich die Gruppe bei der Vorbereitung für Wünsche und Ziele setzt. Die
  Kosten dürfen aber kein Grund für eine Absage sein: wenn wir dich für
  die Reise unterstützen sollen\, melde dich doch direkt bei Renato
  Pfeffer.\n\nIndividuelle Anpassung der Reise:\nIhr seid selbst frei\, die
  Reise entsprechend vor- oder nachzubereiten. Eine Möglichkeit der
  Vorbereitung ist\, sich in den Monaten zuvor mit ein paar Teilnehmenden
  zusammenzuschliessen\, und bereits die Etappe vom Zürichsee nach Genf zu
  fahren – ganz im Sinne von «Der Pilgerweg beginnt vor der
  Haustüre.».\nGeplant ist\, die Reise die darauffolgenden Jahre jeweils
  über das Auffahrtswochenende weiterzuführen.\n\nKontakt:
  renato.pfeffer@kirche-thalwil.ch\n\nWeitere Infos:
  https://www.kirche-thalwil.ch/veranstaltung/38162
SUMMARY:Velo-Pilgern
PRIORITY:5
X-MICROSOFT-CDO-IMPORTANCE:1
CLASS:PUBLIC
END:VEVENT
END:VCALENDAR
