BEGIN:VCALENDAR
PRODID:-//kirchenweb.ch gmbh//veranstaltungsausgabe v2.0//DE
VERSION:2.0
METHOD:PUBLISH
BEGIN:VEVENT
DTSTART:20260310T170000Z
DTEND:20260310T200000Z
LOCATION:ref. Kirchgemeindehaus Horgen\, Kelliweg 21\, 8810 Horgen
TRANSP:OPAQUE
SEQUENCE:0
UID:38154-veranstaltung@kirche-thalwil.ch
DTSTAMP:20251107T140258Z
DESCRIPTION:Junge Erwachsene von H2OT (ref. Kirchgemeinden Horgen\,
  Oberrieden und Thalwil) essen gemeinsam Znacht und diskutieren über Gott
  und die Welt zu verschiedenen Themen und mit verschiedenen Gästen.\n
 \nBist du konfirmiert und möchtest gerne mit anderen jungen Erwachsenen
  der reformierten Kirchen Horgen\, Oberrieden und Thalwil bei einem
  gemeinsamen Znacht über verschiedene Themen austauschen und von Gästen
  spannende Geschichten aus ihrem Leben erfahren? Dann schau unbedingt
  rein!\n\n\n\n\nKontakt: Bernhard Jäggle Jugendarbeiter Horgen\n\nWeitere
  Infos: https://www.kirche-thalwil.ch/veranstaltung/38154
SUMMARY:K16+ H2OT Zischtigstreff
PRIORITY:5
X-MICROSOFT-CDO-IMPORTANCE:1
CLASS:PUBLIC
END:VEVENT
END:VCALENDAR
