BEGIN:VCALENDAR
PRODID:-//kirchenweb.ch gmbh//veranstaltungsausgabe v2.0//DE
VERSION:2.0
METHOD:PUBLISH
BEGIN:VEVENT
DTSTART:20260607T160000Z
DTEND:20260607T173000Z
LOCATION:Kirche\, Platte\, 8800 Thalwil
TRANSP:OPAQUE
SEQUENCE:0
UID:38147-veranstaltung@kirche-thalwil.ch
DTSTAMP:20251107T104829Z
DESCRIPTION:Junge Erwachsene Treffen sich für ca. 20 Min spirituelles
  Auftanken für die neue Woche.\nAnschliessend Option zum gemeinsam Pizza
  essen.\n\nKontakt: Renato Pfeffer\n\n\nWeitere Infos:
  https://www.kirche-thalwil.ch/veranstaltung/38147
SUMMARY:Gather and Go
PRIORITY:5
X-MICROSOFT-CDO-IMPORTANCE:1
CLASS:PUBLIC
END:VEVENT
END:VCALENDAR
