BEGIN:VCALENDAR
PRODID:-//kirchenweb.ch gmbh//veranstaltungsausgabe v2.0//DE
VERSION:2.0
METHOD:PUBLISH
BEGIN:VEVENT
DTSTART:20260324T133000Z
DTEND:20260324T153000Z
LOCATION:Kirchgemeindehaus\, \,
TRANSP:OPAQUE
SEQUENCE:0
UID:38121-veranstaltung@kirche-thalwil.ch
DTSTAMP:20251106T145222Z
DESCRIPTION:Singen - einfach so\nHerzlich willkommen beim Singkreis
  Thalwil!\nWir singen alte und jung gebliebene Lieder\, einfach so\,
 \nungezwungen und ohne Auftritt\, nur für den eigenen Kreis.\nEin Angebot
  für alle\, die gerne singen\, schon lange nicht mehr gesungen haben oder
  schon immer mal singen wollten.\n\nKontakt: Gabriela Schöb\, Kantorin\n
 \nWeitere Infos: https://www.kirche-thalwil.ch/veranstaltung/38121
SUMMARY:Singkreis
PRIORITY:5
X-MICROSOFT-CDO-IMPORTANCE:1
CLASS:PUBLIC
END:VEVENT
END:VCALENDAR
