BEGIN:VCALENDAR
PRODID:-//kirchenweb.ch gmbh//veranstaltungsausgabe v2.0//DE
VERSION:2.0
METHOD:PUBLISH
BEGIN:VEVENT
DTSTART:20261028T143000Z
DTEND:20261028T170000Z
LOCATION:Kirchgemeindehaus\, Alte Landstrasse 93a\, 8800 Thalwil
TRANSP:OPAQUE
SEQUENCE:0
UID:38098-veranstaltung@kirche-thalwil.ch
DTSTAMP:20260414T143352Z
DESCRIPTION:----------------------------\nHier geht es zur
  https://www.kirche-thalwil.ch/bericht/2254\n----------------------------
 \n\nHeute basteln wir miteinander Laternen für den Laternenumzug an
  Martini (11.11.2026)\n\nEingeladen sind Kinder im Alter von 2einhalb - 6
  Jahren mit einer Begleitperson. (Eltern\, Grosseltern\,
  Gotte/Götti\,...). Die Kinder brauchen beim Basteln Hilfe. Sollten aus
  einer Familie mehrer Kinder kommen\, bitte schätzen Sie selber ein\, wie
  sehr jedes Kind ihre Hilfe benötigt und kommen sie eventuell auch
  zusammen mit Gotte/Götti/Oma/Opa/Papa. \n\nEs gibt eine gemeinsame
  ZvieriPause. Um 18 Uhr sind alle LAternen fertig gebastlet und strahlende
  Kinderaugen freuen sich auf den 11. November\, denn da haben die Laternen
  ihren Einsatz am Martinifest.\n\nAblauf Martinifest am 11.11. 2026 auf
  der Platte\nUm 16.45 Uhr feiern wir ein gemeinsame Fiire mit de Chline\,
  erzählen die Legende vom heiligen Martin kindegerecht. \nUm 17.30 Uhr
  starten wir mit dem gemeinsamen Laternenumzug durch den alten Dorfkern.
  Anschliessend Martinifest auf der Platte\, mit Bratwürsten\,
  Martinsweggen\, Suppe\, Glühwein und Guggemusik. \n\nDas Fiiere mit de
  Chline Team freut sich auf Sie und ihr(e) Kind(er).\nAnna Martin\,
  Esther\, Toszeghi\, Muriel Numao\, Pfrn. Julia Matucci-Gros\n\n\n
 \nKontakt: Julia Matucci-Gros\n\n\nWeitere Infos:
  https://www.kirche-thalwil.ch/veranstaltung/38098
SUMMARY:Laternebasteln mit Anmeldung
PRIORITY:5
X-MICROSOFT-CDO-IMPORTANCE:1
CLASS:PUBLIC
END:VEVENT
END:VCALENDAR
