BEGIN:VCALENDAR
PRODID:-//kirchenweb.ch gmbh//veranstaltungsausgabe v2.0//DE
VERSION:2.0
METHOD:PUBLISH
BEGIN:VEVENT
DTSTART:20260506T150000Z
DTEND:20260506T160000Z
LOCATION:Kirche\, Platte\, 8800 Thalwil
TRANSP:OPAQUE
SEQUENCE:0
UID:38008-veranstaltung@kirche-thalwil.ch
DTSTAMP:20260323T130230Z
DESCRIPTION:Mittwoch ist Kinderzeit in der Kirche – lebendig\,
  herzlich\, offen für alle!\nEinmal im Monat wird unsere Kirche zum
  bunten Treffpunkt für kleine Entdeckerinnen und Entdecker im Alter von 2
  bis 6 Jahren – begleitet von Mama\, Papa\, Grosseltern\, Gotti\, Götti
  oder einer anderen vertrauten Person.\nIm Mittelpunkt steht jeweils ein
  kindgerechtes Thema aus der Kirche\, das wir gemeinsam mit allen Sinnen
  erleben:\n🎶 Singen\, ✂️ Basteln\, ✨ Staunen – und dabei
  spielerisch den Glauben entdecken.\nUnser neugieriger Freund Waldkauz
  Waldemar\, der im Kirchturm wohnt\, schaut auch immer wieder vorbei. Er
  will wissen\, was da in der Kirche so Spannendes passiert!\n\nNEU:
  Austausch unter Eltern – bei Fischli & Früchten\nAb 16.30 Uhr laden
  wir herzlich zum gemütlichen Ankommen ein:\nWährend die Kinder noch
  herumtollen und ihr Zvieri geniessen\, gibt es für die Erwachsenen Raum
  zum Austauschen\, Zuhören und Fragen stellen:\n\nWie geht es anderen
  Eltern gerade?\nWelche Phase macht mein Kind durch?\nWas hilft beim
  Einschlafen oder beim Abendritual?\n\nGanz unkompliziert\, offen und ohne
  Erwartungen – einfach miteinander ins Gespräch kommen.\n\nHerzlich
  willkommen – auch wenn du die Kirche (noch) nicht kennst.\nWir freuen
  uns auf dich und dein Kind!\n\nDas Fiire mit de Chline-Team:\nAnna
  Martin\, Esther\, Toszeghi\, Muriel Numao und\nPfrn. Julia Matucci-Gros\n
 \nKontakt: Julia Matucci-Gros\n\nWeitere Infos:
  https://www.kirche-thalwil.ch/veranstaltung/38008
SUMMARY:Fiire mit de Chliine
PRIORITY:5
X-MICROSOFT-CDO-IMPORTANCE:1
CLASS:PUBLIC
END:VEVENT
END:VCALENDAR
