BEGIN:VCALENDAR
PRODID:-//kirchenweb.ch gmbh//veranstaltungsausgabe v2.0//DE
VERSION:2.0
METHOD:PUBLISH
BEGIN:VEVENT
DTSTART:20260917T063000Z
DTEND:20260917T150000Z
LOCATION:Katholisches Pfarreizentrum\, Seehaldenstrasse 9\, 8800 Thalwil
TRANSP:OPAQUE
SEQUENCE:0
UID:37936-veranstaltung@kirche-thalwil.ch
DTSTAMP:20251002T084747Z
DESCRIPTION:Kontakt: Felix Känzig-Wolf\n\nWeitere Infos:
  https://www.kirche-thalwil.ch/veranstaltung/37936
SUMMARY:Ökumenischer Senioren-Herbstausflug
PRIORITY:5
X-MICROSOFT-CDO-IMPORTANCE:1
CLASS:PUBLIC
END:VEVENT
END:VCALENDAR
