BEGIN:VCALENDAR
PRODID:-//kirchenweb.ch gmbh//veranstaltungsausgabe v2.0//DE
VERSION:2.0
METHOD:PUBLISH
BEGIN:VEVENT
DTSTART:20260825T130000Z
DTEND:20260825T150000Z
LOCATION:Katholisches Pfarreizentrum\, Pfarrgarten\, Se\,
TRANSP:OPAQUE
SEQUENCE:0
UID:37934-veranstaltung@kirche-thalwil.ch
DTSTAMP:20251002T084507Z
DESCRIPTION:Ökumenischer Seniorennachmittag im Pfarrgarten des
  katholischen Pfarreizentrums.\nBei schlechtem Wetter im Pfarreisaal.
 \nSingen\, Geschichten hören\, Grill\, Gemeinschaft\n\nKontakt: Felix
  Känzig-Wolf\n\nWeitere Infos:
  https://www.kirche-thalwil.ch/veranstaltung/37934
SUMMARY:Ökumenischer Seniorennachmittag
PRIORITY:5
X-MICROSOFT-CDO-IMPORTANCE:1
CLASS:PUBLIC
END:VEVENT
END:VCALENDAR
