BEGIN:VCALENDAR
PRODID:-//kirchenweb.ch gmbh//veranstaltungsausgabe v2.0//DE
VERSION:2.0
METHOD:PUBLISH
BEGIN:VEVENT
DTSTART:20261027T140000Z
DTEND:20261027T160000Z
LOCATION:Kirchgemeindehaus\, Alte Landstrasse 93a\, 8800 Thalwil
TRANSP:OPAQUE
SEQUENCE:0
UID:37932-veranstaltung@kirche-thalwil.ch
DTSTAMP:20251002T084158Z
DESCRIPTION:Kontakt: Felix Känzig-Wolf\n\nWeitere Infos:
  https://www.kirche-thalwil.ch/veranstaltung/37932
SUMMARY:Ökumenischer Seniorennachmittag
PRIORITY:5
X-MICROSOFT-CDO-IMPORTANCE:1
CLASS:PUBLIC
END:VEVENT
END:VCALENDAR
