BEGIN:VCALENDAR
PRODID:-//kirchenweb.ch gmbh//veranstaltungsausgabe v2.0//DE
VERSION:2.0
METHOD:PUBLISH
BEGIN:VEVENT
DTSTART:20261213T090000Z
DTEND:20261213T100000Z
LOCATION:Kirche\, Platte\, 8800 Thalwil
TRANSP:OPAQUE
SEQUENCE:0
UID:37731-veranstaltung@kirche-thalwil.ch
DTSTAMP:20260316T102801Z
DESCRIPTION:Feiern Sie aktiv mit\, stimmen Sie ein! Vor dem Gottesdienst
  treffen wir uns in der Kirche. Gemeinsam singen wir die Lieder für den
  Gottesdienst\, frischen Altes auf und lernen Neues kennen. Danach
  stärken wir uns mit Kaffee und Zopf.\nIm Gottesdienst setzen wir uns in
  die Gemeinde und lassen den Gesang kräftig klingen. Es sind keine
  Vorkenntnisse nötig.\nWer Freude am Singen hat\, ist herzlich
  willkommen.\n\nKontakt: Jürg-Markus Meier\n\nWeitere Infos:
  https://www.kirche-thalwil.ch/veranstaltung/37731
SUMMARY:Gottesdienst 3. Advent mit Einsingen
PRIORITY:5
X-MICROSOFT-CDO-IMPORTANCE:1
CLASS:PUBLIC
END:VEVENT
END:VCALENDAR
