BEGIN:VCALENDAR
PRODID:-//kirchenweb.ch gmbh//veranstaltungsausgabe v2.0//DE
VERSION:2.0
METHOD:PUBLISH
BEGIN:VEVENT
DTSTART:20260628T080000Z
DTEND:20260628T090000Z
LOCATION:Kirche\, Platte\, 8800 Thalwil
TRANSP:OPAQUE
SEQUENCE:0
UID:37718-veranstaltung@kirche-thalwil.ch
DTSTAMP:20260331T140034Z
DESCRIPTION:Feiern Sie aktiv mit\, stimmen Sie ein! Vor dem Gottesdienst
  treffen wir uns in\nder Kirche. Gemeinsam singen wir die Lieder für den
  Gottesdienst\, frischen Altes\nauf und lernen Neues kennen. Danach
  stärken wir uns mit Kaffee und Zopf.\nIm Gottesdienst setzen wir uns in
  die Gemeinde und lassen\nden Gesang kräftig klingen. Es sind keine
  Vorkenntnisse nötig.\nWer Freude am Singen hat\, ist herzlich
  willkommen.\n\nKontakt: Jürg-Markus Meier\n\nWeitere Infos:
  https://www.kirche-thalwil.ch/veranstaltung/37718
SUMMARY:Gottesdienst mit Abendmahl\, Begrüssung der neuen Kirchenpflege\,
PRIORITY:5
X-MICROSOFT-CDO-IMPORTANCE:1
CLASS:PUBLIC
END:VEVENT
END:VCALENDAR
