BEGIN:VCALENDAR
PRODID:-//kirchenweb.ch gmbh//veranstaltungsausgabe v2.0//DE
VERSION:2.0
METHOD:PUBLISH
BEGIN:VEVENT
DTSTART:20260426T080000Z
DTEND:20260426T090000Z
LOCATION:Serata\, Tischenloostrasse 55\, 8800 Thalwil
TRANSP:OPAQUE
SEQUENCE:0
UID:37698-veranstaltung@kirche-thalwil.ch
DTSTAMP:20260316T101528Z
DESCRIPTION:Kontakt: Jürg-Markus Meier\n\nWeitere Infos:
  https://www.kirche-thalwil.ch/veranstaltung/37698
SUMMARY:Ökumenischer Gottesdienst im Serata
PRIORITY:5
X-MICROSOFT-CDO-IMPORTANCE:1
CLASS:PUBLIC
END:VEVENT
END:VCALENDAR
