BEGIN:VCALENDAR
PRODID:-//kirchenweb.ch gmbh//veranstaltungsausgabe v2.0//DE
VERSION:2.0
METHOD:PUBLISH
BEGIN:VEVENT
DTSTART:20260329T080000Z
DTEND:20260329T090000Z
LOCATION:Kirche\, Platte\, 8800 Thalwil
TRANSP:OPAQUE
SEQUENCE:0
UID:37692-veranstaltung@kirche-thalwil.ch
DTSTAMP:20260326T152456Z
DESCRIPTION:An Palmsonntag haben wir einen ganz besonderen Gast: Esel
  Goliath kommt zu uns – lebendig\, gutmütig und neugierig. Er begrüsst
  Gross und Klein vor der Kirche\, lässt sich bestaunen und – wer mag
  – darf ihn auch streicheln.\n\nGemeinsam erleben wir\, warum ein Esel
  in der Palmsonntagsgeschichte eine so wichtige Rolle spielt: Denn auf
  einem solchen Tier ritt Jesus damals in die Stadt Jerusalem ein und
  eröffnete damit die Karwoche – der Anfang einer grossen\, bewegenden
  Geschichte\, die wir bis heute feiern.\nNach dem Familiengottesdienst
  könnt ihr Esel Goliath ganz aus der Nähe kennenlernen:\nstreicheln\,
  beobachten\, Fragen stellen – und einfach Freude haben.\n\nUnser Ziel
  ist einfach: Strahlende Kinderaugen und lebendige Glaubensmomente. Wir
  freuen uns über Kinder\, die staunen\, lachen\, Fragen stellen – und
  mit uns die Welt des Glaubens entdecken.\n\n\nKommt vorbei\, bringt eure
  Kinder mit und feiert mit uns einen Palmsonntag voller Staunen\,
  Begegnung und lebendiger Tradition!\nPfrn. Julia Matucci-Gros\n\nKontakt:
  Julia Matucci-Gros\n\nWeitere Infos:
  https://www.kirche-thalwil.ch/veranstaltung/37692
SUMMARY:FamilienKirche am Palmsonntag
PRIORITY:5
X-MICROSOFT-CDO-IMPORTANCE:1
CLASS:PUBLIC
END:VEVENT
END:VCALENDAR
