BEGIN:VCALENDAR
PRODID:-//kirchenweb.ch gmbh//veranstaltungsausgabe v2.0//DE
VERSION:2.0
METHOD:PUBLISH
BEGIN:VEVENT
DTSTART:20260306T183000Z
DTEND:20260306T193000Z
LOCATION:Katholische Kirche\, Seehaldenstrasse 9\, 8800 Thalwil
TRANSP:OPAQUE
SEQUENCE:0
UID:37687-veranstaltung@kirche-thalwil.ch
DTSTAMP:20260302T113642Z
DESCRIPTION:Kontakt: Julia Matucci-Gros\, \nGalina Angelova\n\nWeitere
  Infos: https://www.kirche-thalwil.ch/veranstaltung/37687
SUMMARY:Ökumenischer Gottesdienst zum Weltgebetstag
PRIORITY:5
X-MICROSOFT-CDO-IMPORTANCE:1
CLASS:PUBLIC
END:VEVENT
END:VCALENDAR
