BEGIN:VCALENDAR
PRODID:-//kirchenweb.ch gmbh//veranstaltungsausgabe v2.0//DE
VERSION:2.0
METHOD:PUBLISH
BEGIN:VEVENT
DTSTART:20260301T090000Z
DTEND:20260301T100000Z
LOCATION:Kirche\, Platte\, 8800 Thalwil
TRANSP:OPAQUE
SEQUENCE:0
UID:37686-veranstaltung@kirche-thalwil.ch
DTSTAMP:20260224T141510Z
DESCRIPTION:Habt ihr Freude am Singen? Dann kommt doch vor dem
  Gottesdienst in die Kirche und macht mit beim Einsingen für Eltern und
  Kinder – unserem kleinen\, spontanen Ad‑hoc‑Chor.\n\nWir treffen
  uns um 9 Uhr im Kirchgemeindehaus:\nWir singen gemeinsam die Lieder\, die
  später im Gottesdienst vorkommen – spielerisch\, entspannt und ohne
  Druck. Kinder dürfen mitsummen\, hüpfen\, tanzen oder einfach zuhören.
  Eltern können mit ihren Kindern zusammen neue Melodien entdecken und
  alte Lieblingslieder wieder aufleben lassen.\nNach dem Einsingen gibt es
  Kaffee für die Grossen und Zopf für alle – ein kurzer Moment\, um
  anzukommen und sich zu stärken. Im Gottesdienst sitzen wir verteilt in
  der Gemeinde und lassen unseren gemeinsamen Gesang kräftig klingen.\n
 \nEs braucht keine Vorbereitung\, keine Chorerfahrung und keine Scheu –
  nur Freude am Singen und am Zusammensein.\nAlle Familien sind herzlich
  willkommen!\n\nKontakt: Julia Matucci-Gros\n\nWeitere Infos:
  https://www.kirche-thalwil.ch/veranstaltung/37686
SUMMARY:FamilienKirche mit Einsingen um 9 Uhr im Kirchgemeindehaus
PRIORITY:5
X-MICROSOFT-CDO-IMPORTANCE:1
CLASS:PUBLIC
END:VEVENT
END:VCALENDAR
