BEGIN:VCALENDAR
PRODID:-//kirchenweb.ch gmbh//veranstaltungsausgabe v2.0//DE
VERSION:2.0
METHOD:PUBLISH
BEGIN:VEVENT
DTSTART:20260403T170000Z
DTEND:20260403T180000Z
LOCATION:Kirche\, \,
TRANSP:OPAQUE
SEQUENCE:0
UID:37675-veranstaltung@kirche-thalwil.ch
DTSTAMP:20260330T075619Z
DESCRIPTION:Rund um die Passionskantate «Jesu\, der du meine Seele» von
  Johann Sebastian Bach und Felix Mendelssohns «Christe\, du Lamm Gottes»
  ist das Musikprogramm zum Karfreitag gestaltet. Chor\, Solisten\,
  Orchester und Orgel tauchen ein ins Geschehen an Karfreitag\, meditieren
  es und nehmen das Publikum mit auf diesen Weg.\n\nKantorei Thalwil\nErika
  Weiss-Wichert\, Sopran\nSimone Hofstetter\, Alt\nSimon Witzig\, Tenor
 \nDaniel Pérez\, Bass\n\nBläser- und Streicherensemble ad hoc:\nLara
  Salamon\, Flöte\nKirsten Rotert\, Oboe\nThomas Weber\, Oboe\nYulianna
  Khomenko\, Violine\nMiriam Kozak\, Violine\nDaniel Medina\, Viola\nSophie
  Chaillot\, Violoncello\nMichael Kessler\, Kontrabass\n\nGerda Dillmann\,
  Orgel\nGabriela Schöb\, Leitung\n\n\n\n\n\nKontakt: Gabriela Schöb\,
  Kantorin\n\nWeitere Infos:
  https://www.kirche-thalwil.ch/veranstaltung/37675
SUMMARY:Thalwiler Konzerte – Musik zum Karfreitag
PRIORITY:5
X-MICROSOFT-CDO-IMPORTANCE:1
CLASS:PUBLIC
END:VEVENT
END:VCALENDAR
