BEGIN:VCALENDAR
PRODID:-//kirchenweb.ch gmbh//veranstaltungsausgabe v2.0//DE
VERSION:2.0
METHOD:PUBLISH
BEGIN:VEVENT
DTSTART:20251111T160000Z
DTEND:20251111T193000Z
LOCATION:Plattenplatz\, Platte\, 8800 Thalwil
TRANSP:OPAQUE
SEQUENCE:0
UID:37007-veranstaltung@kirche-thalwil.ch
DTSTAMP:20251105T105635Z
DESCRIPTION:Martini\, ein einst beliebter lebendiger Markttag\, ist
  verbunden mit dem Heiligen Martin von Tours und der berühmten Szene\,
  in der Ritter Martin seinen Mantel teilt und die Hälfte einem Armen
  gibt. Diese barmherzige Tat schwingt mit\, wenn wir am Dienstag\, 11.
  November 2025 das Martins-Fäscht zum\nfünften Mal feiern – mit
  allem\, was zu diesem fröhlichen und tiefsinnigen Tag passt.\n\nPROGRAMM
 \n16.45 Uhr Fiire mit de Chliine in der Kirche (zur
  https://www.kirche-thalwil.ch/bericht/2254 Laternenbasteln)\n\n17.00 Uhr
  Feuer auf der Platte\n\n17.30 Uhr Martini-Fäscht – offizieller Start\,
  Laternenumzug der Kinder durch den alten Dorfkern (Dauer: ca. 45 min)\,
  Martinsspiel\, Martinslieder\, Geschichten\, Bratwürste\, Suppe\,
  heisse Getränke\, Gugge Albis Chroser und Gugge Art-Rose\n\n20.30 Uhr
  Ausklang am Feuer\n\nDas OK vom Männertreff freut sich auf einen
  stimmungsvollen Abend mit vielen Gästen\n\nKontakt: Jürg-Markus Meier\n
 \nWeitere Infos: https://www.kirche-thalwil.ch/veranstaltung/37007
SUMMARY:Martinifäscht
PRIORITY:5
X-MICROSOFT-CDO-IMPORTANCE:1
CLASS:PUBLIC
END:VEVENT
END:VCALENDAR
