BEGIN:VCALENDAR
PRODID:-//kirchenweb.ch gmbh//veranstaltungsausgabe v2.0//DE
VERSION:2.0
METHOD:PUBLISH
BEGIN:VEVENT
DTSTART:20251111T154500Z
DTEND:20251111T163000Z
LOCATION:Kirche\, Platte\, 8800 Thalwil
TRANSP:OPAQUE
SEQUENCE:0
UID:36922-veranstaltung@kirche-thalwil.ch
DTSTAMP:20251028T135705Z
DESCRIPTION:Heute feiern wir das kirchliche Fest St. Martin. In einer
  kurzen Feier hören wir die Geschichte rund um St. Martin\, singen und
  beten miteinander. Im Anschluss an das Fiire findet der jährliche
  Laternenumzug auf der Platte und im alten Dorfkern statt. Danach gibt es
  Guggemusik\, Martinsweggen und Bratwurst auf der Platte.\n\nEingeladen
  sind Kinder im Alter von 2 bis 6 Jahren mit Familie und ihren
  Geschwistern. \n\nDas Fiiere mit de Chline Team freut sich auf Sie und
  ihr(e) Kind(er).\nAnna Martin\, Esther\, Toszeghi\, Muriel Numao\, Pfrn.
  Julia Matucci-Gros\n\nKontakt: Julia Matucci-Gros\n\nWeitere Infos:
  https://www.kirche-thalwil.ch/veranstaltung/36922
SUMMARY:Fiire mit de Chliine - Martini
PRIORITY:5
X-MICROSOFT-CDO-IMPORTANCE:1
CLASS:PUBLIC
END:VEVENT
END:VCALENDAR
