BEGIN:VCALENDAR
PRODID:-//kirchenweb.ch gmbh//veranstaltungsausgabe v2.0//DE
VERSION:2.0
METHOD:PUBLISH
BEGIN:VEVENT
DTSTART:20260611T140000Z
DTEND:20260611T170000Z
LOCATION:Kirchgemeindehaus\, Alte Landstrasse 93a\, 8800 Thalwil
TRANSP:OPAQUE
SEQUENCE:0
UID:36712-veranstaltung@kirche-thalwil.ch
DTSTAMP:20250131T105402Z
DESCRIPTION:Kontakt: Gabriela Schöb\n\nWeitere Infos:
  https://www.kirche-thalwil.ch/veranstaltung/36712
SUMMARY:Probe Kinderchor
PRIORITY:5
X-MICROSOFT-CDO-IMPORTANCE:1
CLASS:PUBLIC
END:VEVENT
END:VCALENDAR
