BEGIN:VCALENDAR
PRODID:-//kirchenweb.ch gmbh//veranstaltungsausgabe v2.0//DE
VERSION:2.0
METHOD:PUBLISH
BEGIN:VEVENT
DTSTART:20251025T063000Z
DTEND:20251025T093000Z
LOCATION:Kirchgemeindehaus\, Alte Landstrasse 93a\, 8800 Thalwil
TRANSP:OPAQUE
SEQUENCE:0
UID:36393-veranstaltung@kirche-thalwil.ch
DTSTAMP:20251021T084526Z
DESCRIPTION:Begegnungszeit:\nEinen kleinen Zmorge geniessen und offen sein
  für das\, was sich ergibt.\n\nOhne Anmeldung\, freiwilliger Beitrag:
  5.– Fr.\n\nGastgeberinnen\nMonique Meyer-Fausch und Silvana Schoch\n
 \nKontakt: Silvana Schoch\, 044 721 15 82\n\n\nKontakt: Silvana Schoch
 \n079 330 56 93\nsilvana.schoch@bluewin.ch\n\nWeitere Infos:
  https://www.kirche-thalwil.ch/veranstaltung/36393
SUMMARY:Oasenmorgen mit Frühstück – ökumenische Frauenzeit
PRIORITY:5
X-MICROSOFT-CDO-IMPORTANCE:1
CLASS:PUBLIC
END:VEVENT
END:VCALENDAR
