BEGIN:VCALENDAR
PRODID:-//kirchenweb.ch gmbh//veranstaltungsausgabe v2.0//DE
VERSION:2.0
METHOD:PUBLISH
BEGIN:VEVENT
DTSTART:20251102T090000Z
DTEND:20251102T100000Z
LOCATION:Kirche\, Alte Landstrasse 93a\, 8800 Thalwil
TRANSP:OPAQUE
SEQUENCE:0
UID:36280-veranstaltung@kirche-thalwil.ch
DTSTAMP:20251030T075605Z
DESCRIPTION:Die Kantorei und die Teilnehmenden des Offenen Singwochenendes
  singen Musik von Felix Mendelssohn.\n\nKontakt: Galina Angelova\n
 \nWeitere Infos: https://www.kirche-thalwil.ch/veranstaltung/36280
SUMMARY:Gottesdienst zum Reformationssonntag mit Installation
PRIORITY:5
X-MICROSOFT-CDO-IMPORTANCE:1
CLASS:PUBLIC
END:VEVENT
END:VCALENDAR
