BEGIN:VCALENDAR
PRODID:-//kirchenweb.ch gmbh//veranstaltungsausgabe v2.0//DE
VERSION:2.0
METHOD:PUBLISH
BEGIN:VEVENT
DTSTART:20250112T090000Z
DTEND:20250112T100000Z
LOCATION:Kirche\, Platte\, 8800 Thalwil
TRANSP:OPAQUE
SEQUENCE:0
UID:36252-veranstaltung@kirche-thalwil.ch
DTSTAMP:20250109T124407Z
DESCRIPTION:Feiern Sie aktiv mit\, stimmen Sie ein! Vor dem Gottesdienst
  treffen wir uns in der Kirche. Gemeinsam singen wir die Lieder für den
  Gottesdienst\, frischen Altes auf und lernen Neues kennen. Danach
  stärken wir uns mit Kaffee und Zopf.\nIm Gottesdienst setzen wir uns in
  die Gemeinde und lassen den Gesang kräftig klingen. Es sind keine
  Vorkenntnisse nötig.\nWer Freude am Singen hat\, ist herzlich
  willkommen.\n\nKontakt: Julia Matucci-Gros\n\nWeitere Infos:
  https://www.kirche-thalwil.ch/veranstaltung/36252
SUMMARY:FamilienKirche mit Einsingen
PRIORITY:5
X-MICROSOFT-CDO-IMPORTANCE:1
CLASS:PUBLIC
END:VEVENT
END:VCALENDAR
