BEGIN:VCALENDAR
PRODID:-//kirchenweb.ch gmbh//veranstaltungsausgabe v2.0//DE
VERSION:2.0
METHOD:PUBLISH
BEGIN:VEVENT
DTSTART:20250111T100000Z
DTEND:20250111T120000Z
LOCATION:Kirche\, Platte\, 8800 Thalwil
TRANSP:OPAQUE
SEQUENCE:0
UID:36002-veranstaltung@kirche-thalwil.ch
DTSTAMP:20250106T110421Z
DESCRIPTION:Kontakt: Turmwach-Team\n\nWeitere Infos:
  https://www.kirche-thalwil.ch/veranstaltung/36002
SUMMARY:Offener Kirchturm
PRIORITY:5
X-MICROSOFT-CDO-IMPORTANCE:1
CLASS:PUBLIC
END:VEVENT
END:VCALENDAR
