BEGIN:VCALENDAR
PRODID:-//kirchenweb.ch gmbh//veranstaltungsausgabe v2.0//DE
VERSION:2.0
METHOD:PUBLISH
BEGIN:VEVENT
DTSTART:20241201T180000Z
DTEND:20241201T190000Z
LOCATION:Baptistenkapelle\, Archstrasse 4\, 8800 Thalwil
TRANSP:OPAQUE
SEQUENCE:0
UID:35795-veranstaltung@kirche-thalwil.ch
DTSTAMP:20241106T154834Z
DESCRIPTION:Unser Taizé-Gebet folgt der Form\, wie es in der Communité
  de Taizé gefeiert wird.\nhttp://www.taizé.fr\n\nMusikalische
  Begleitung: Felix Bachmann\, Gitarre\n\nKontakt: Heidi und Peter Ritzmann
 \nhepe.ritzmann@gmail.com\n044 721 04 55\n\nWeitere Infos:
  https://www.kirche-thalwil.ch/veranstaltung/35795
SUMMARY:Taizé-Gebet
PRIORITY:5
X-MICROSOFT-CDO-IMPORTANCE:1
CLASS:PUBLIC
END:VEVENT
END:VCALENDAR
