BEGIN:VCALENDAR
PRODID:-//kirchenweb.ch gmbh//veranstaltungsausgabe v2.0//DE
VERSION:2.0
METHOD:PUBLISH
BEGIN:VEVENT
DTSTART:20241224T173000Z
DTEND:20241224T213000Z
LOCATION:Katholisches Pfarreizentrum\, Seehaldenstrasse 9\, 8800 Thalwil
TRANSP:OPAQUE
SEQUENCE:0
UID:35702-veranstaltung@kirche-thalwil.ch
DTSTAMP:20241030T143513Z
DESCRIPTION:Kontakt: Elisabeth Korner\n\nWeitere Infos:
  https://www.kirche-thalwil.ch/veranstaltung/35702
SUMMARY:Offene Weihnachtsfeier der Ökumene
PRIORITY:5
X-MICROSOFT-CDO-IMPORTANCE:1
CLASS:PUBLIC
END:VEVENT
END:VCALENDAR
