BEGIN:VCALENDAR
PRODID:-//kirchenweb.ch gmbh//veranstaltungsausgabe v2.0//DE
VERSION:2.0
METHOD:PUBLISH
BEGIN:VEVENT
DTSTART:20241128T140000Z
DTEND:20241128T203000Z
LOCATION:1. Untergeschoss\, alte Landstr. 93a\, 8800 Thalwil
TRANSP:OPAQUE
SEQUENCE:0
UID:35680-veranstaltung@kirche-thalwil.ch
DTSTAMP:20241016T151346Z
DESCRIPTION:Alle Generationen sind eingeladen für sich selbst oder als
  Geschenk Bienenwachskerzen zu ziehen. Dazu braucht es Zeit und Geduld\,
  was am Schluss durch die fein duftenden Kerzen belohnt wird.\nDas
  Cherzenkafi ist jeweils am Nachmittag geöffnet.\n\nKontakt: Felix
  Känzig-Wolf\n\nWeitere Infos:
  https://www.kirche-thalwil.ch/veranstaltung/35680
SUMMARY:Bienenwachskerzenziehen
PRIORITY:5
X-MICROSOFT-CDO-IMPORTANCE:1
CLASS:PUBLIC
END:VEVENT
END:VCALENDAR
