BEGIN:VCALENDAR
PRODID:-//kirchenweb.ch gmbh//veranstaltungsausgabe v2.0//DE
VERSION:2.0
METHOD:PUBLISH
BEGIN:VEVENT
DTSTART:20251208T180000Z
DTEND:20251208T200000Z
LOCATION:Kirchgemeindehaus\, Alte Landstrasse 93a\, 8800 Thalwil
TRANSP:OPAQUE
SEQUENCE:0
UID:35667-veranstaltung@kirche-thalwil.ch
DTSTAMP:20251106T140105Z
DESCRIPTION:Kontakt: martina.gerisch@kirche-thalwil.ch\n\nWeitere Infos:
  https://www.kirche-thalwil.ch/veranstaltung/35667
SUMMARY:Kirchgemeindeversammlung
PRIORITY:5
X-MICROSOFT-CDO-IMPORTANCE:1
CLASS:PUBLIC
END:VEVENT
END:VCALENDAR
