BEGIN:VCALENDAR
PRODID:-//kirchenweb.ch gmbh//veranstaltungsausgabe v2.0//DE
VERSION:2.0
METHOD:PUBLISH
BEGIN:VEVENT
DTSTART:20241026T170000Z
DTEND:20241026T190000Z
LOCATION:Kirche\, Platte\, 8800 Thalwil
TRANSP:OPAQUE
SEQUENCE:0
UID:35649-veranstaltung@kirche-thalwil.ch
DTSTAMP:20241003T081329Z
DESCRIPTION:Kontakt: Turmwacht-Team\n\nWeitere Infos:
  https://www.kirche-thalwil.ch/veranstaltung/35649
SUMMARY:Offener Kirchturm
PRIORITY:5
X-MICROSOFT-CDO-IMPORTANCE:1
CLASS:PUBLIC
END:VEVENT
END:VCALENDAR
