BEGIN:VCALENDAR
PRODID:-//kirchenweb.ch gmbh//veranstaltungsausgabe v2.0//DE
VERSION:2.0
METHOD:PUBLISH
BEGIN:VEVENT
DTSTART:20241127T110000Z
DTEND:20241127T111500Z
LOCATION:Kirche\, Platte\, 8800 Thalwil
TRANSP:OPAQUE
SEQUENCE:0
UID:35603-veranstaltung@kirche-thalwil.ch
DTSTAMP:20241003T093427Z
DESCRIPTION:Stille – Wort – Musik\n\nKontakt:
  martina.gerisch@kirche-thalwil.ch\n\nWeitere Infos:
  https://www.kirche-thalwil.ch/veranstaltung/35603
SUMMARY:Innehalten um 12
PRIORITY:5
X-MICROSOFT-CDO-IMPORTANCE:1
CLASS:PUBLIC
END:VEVENT
END:VCALENDAR
