BEGIN:VCALENDAR
PRODID:-//kirchenweb.ch gmbh//veranstaltungsausgabe v2.0//DE
VERSION:2.0
METHOD:PUBLISH
BEGIN:VEVENT
DTSTART:20241112T170000Z
DTEND:20241112T201500Z
LOCATION:Serata Begegnungszentrum \, Tischenloostrasse 55\, 8800 Thalwil
TRANSP:OPAQUE
SEQUENCE:0
UID:35572-veranstaltung@kirche-thalwil.ch
DTSTAMP:20240919T102057Z
DESCRIPTION:Einführung in die Welt der KI mit anschliessendem \nAustausch
  zu Chancen und Grenzen der Daten basierten Technologie\n\nGastgeber:
  Reformierte Kirchgemeinden Horgen\, Oberrieden und Thalwil (H2OT) und
  Serata. Leben im Alter\n\n- - - - - - - - - - - - - - - - - - - - - - - -
  - - - - - - - - - - - - - - - - - - - -\n\nProgramm\n\n18.00 Uhr
  Einführung in die Welt der KI mit Ralph Landolt\n\n18.45 Uhr Apéro \n
 \n19.15  Uhr Austausch zu Chancen und Grenzen von KI\n- - - - - - - - - -
  - - - - - - - - - - - - - - - - - - - - - - - - - - - - - - - - - -\n
 \nMit Ralph Landolt\, Ingenieur und KI-Spezialist\,Techtipp AG\, Thalwil
 \nund Frank Mathwig\, Prof. für Theologie und Ethik\, Universität Bern\n
 \nUnd ausserdem: Vertreterinnen und Vertretern aus: \nPolitik\,
  Verwaltung\, Spital\, Gesundheits-\, Schul- und Rechtswesen etc.\n
 \nModeration: Peter Ritzmann\, Pfr. Arend Hoyer und Diakon Martin Haas. \n
 \nKI im Alltag nutzen und kritisch hinterfragen\nEs kommt nicht alle Tage
  vor\, dass ein Gemeindepfarrer angerufen wird\, um zu einem technisch
  hochkomplexen Thema ein qualifiziertes Urteil abzugeben\, das ausserdem
  die ganze Welt in Aufregung versetzt.\n\nIm Sommer 2023 ist aber genau
  dies geschehen: Dipl. Ing. ETH Ralph Landolt aus Thalwil rief mich an: In
  technischer Hinsicht fühlt er sich sicher\, Menschen in die Welt der KI
  einzuführen\, sieht sich aber ausserstande\, Fragen zu beantworten\, die
  die moralischen Grenzen ihrer Anwendung ansprechen. An dieser Stelle
  könne «die Kir-che» weiterhelfen\, oder? \n\nAus dieser Kontaktnahme
  wurde ein sehr anregendes Gespräch. Und der Funke sprang auch bald auf
  die Gruppe über\, die für die Bildungsarbeit der drei
  H2OT-Kirchgemeinden Horgen\, Oberrieden und Thalwil zuständig ist. \n
 \nAm Dienstag\, 12. November 2024 ist es soweit: Die H2OT-Kirchgemeinden
  laden zu ei-ner Publikumsveranstaltung ins Serata Thalwil ein\, an
  welcher dank der fachlichen Unterstützung von Ralph Landolt der Umgang
  mit der KI er-probt werden wird. \n\nIn einem zweiten Teil wird zusammen
  mit Frank Mathwig\, Professor für Theologie und Ethik an der
  Universität Bern\, eine offene Diskussion über Sinn\, Unsinn\, Chancen
  und Gefahren im Umgang mit KI geführt. \n\nGäste aus unterschiedlichen
  Sektoren des gesellschaftlichen Lebens in der Region (Gesundheit\,
  Schule\, Wirtschaft\, öffentliche Verwaltung etc.) bereichern die
  Diskussion um ein Thema\, das viele von uns beschäftigt\, wenn nicht
  sogar umtreibt. Die Mitglieder der Projektgruppe sind gespannt auf die
  lokale Diskussion um ein global hochaktuelles Thema. \nFür die
  Projektgruppe Pfr. Arend Hoyer\n\nKontakt: Arend Hoyer\n\nWeitere Infos:
  https://www.kirche-thalwil.ch/veranstaltung/35572
SUMMARY:Künstliche Intelligenz – Fluch oder Segen?
PRIORITY:5
X-MICROSOFT-CDO-IMPORTANCE:1
CLASS:PUBLIC
END:VEVENT
END:VCALENDAR
