BEGIN:VCALENDAR
PRODID:-//kirchenweb.ch gmbh//veranstaltungsausgabe v2.0//DE
VERSION:2.0
METHOD:PUBLISH
BEGIN:VEVENT
DTSTART:20240910T070000Z
DTEND:20240910T160000Z
LOCATION:auswärts\, \,
TRANSP:OPAQUE
SEQUENCE:0
UID:35527-veranstaltung@kirche-thalwil.ch
DTSTAMP:20240830T103709Z
DESCRIPTION:PROGRAMM\nTreffpunkt: 8.50 Uhr Bahnhof Thalwil\, bei Kiosk
  Bahnhofstrasse\n\nFahrt nach Neftenbach\nBesichtigung der Kirchenfenster
  von Max Hunziker und Hans Affeltranger\nWanderung nach Töss\nFahrt nach
  Illnau\nBesichtigung Wehrturm der ref. Kirche\nWanderung nach Volketswil
 \nBesichtigung der Kirchenfenster von Max Hunziker\nFahrt nach Thalwil
 \nAnkunft: ca. 18 Uhr\n\nKosten: keine\nJeder Teilnehmer löst eine
  Tageskarte für den ÖV und nimmt für sich Verpflegung mit.\n
 \nWanderzeit ca. 2 – 2\,5 h. Die Exkursionen werden bei jedem Wetter
  durchgeführt.\nDie Angemeldeten erhalten weitere Informationen.\n\nDie
  Exkursion vom 10. September beginnt um ca. 9 Uhr und dauert bis ca. 18
  Uhr. Sie führt zur Kirche Neftenbach\, wo die drei Fenster «Werden –
  Sein – Vergehen» betrachten werden können. In dieser Kirche sind auch
  Fenster von Robert Wyss und Hans Affeltranger zu sehen. Nach einer
  Wanderung und dem Zmittag – als Lunch aus dem Rucksack – werden wir
  uns von den elf Glasfenstern in der Kirche Volketswil inspirieren lassen.
  Diese figürlichen Bildwelten sind ein wahres Juwel für die Augen und
  Sinne.\n\nKontakt: Jürg-Markus Meier\n\nWeitere Infos:
  https://www.kirche-thalwil.ch/veranstaltung/35527
SUMMARY:KulturWandern zu Hunzikerfenstern
PRIORITY:5
X-MICROSOFT-CDO-IMPORTANCE:1
CLASS:PUBLIC
END:VEVENT
END:VCALENDAR
