BEGIN:VCALENDAR
PRODID:-//kirchenweb.ch gmbh//veranstaltungsausgabe v2.0//DE
VERSION:2.0
METHOD:PUBLISH
BEGIN:VEVENT
DTSTART:20241102T090000Z
DTEND:20241102T170000Z
LOCATION:Kirchgemeindehaus\, Alte Landstrasse 93a\, 8800 Thalwil
TRANSP:OPAQUE
SEQUENCE:0
UID:35522-veranstaltung@kirche-thalwil.ch
DTSTAMP:20241024T094013Z
DESCRIPTION:Kontakt: barbara.kummer\n\nWeitere Infos:
  https://www.kirche-thalwil.ch/veranstaltung/35522
SUMMARY:Verkauf Brocki Flomi
PRIORITY:5
X-MICROSOFT-CDO-IMPORTANCE:1
CLASS:PUBLIC
END:VEVENT
END:VCALENDAR
