BEGIN:VCALENDAR
PRODID:-//kirchenweb.ch gmbh//veranstaltungsausgabe v2.0//DE
VERSION:2.0
METHOD:PUBLISH
BEGIN:VEVENT
DTSTART:20241120T151500Z
DTEND:20241120T160000Z
LOCATION:Oeggisbüel\, Asylstrasse 8\, 8800 Thalwil
TRANSP:OPAQUE
SEQUENCE:0
UID:35505-veranstaltung@kirche-thalwil.ch
DTSTAMP:20241015T073446Z
DESCRIPTION:Kontakt: Jürg-Markus Meier\n\nWeitere Infos:
  https://www.kirche-thalwil.ch/veranstaltung/35505
SUMMARY:Stunde der Besinnung mit Abendmahl
PRIORITY:5
X-MICROSOFT-CDO-IMPORTANCE:1
CLASS:PUBLIC
END:VEVENT
END:VCALENDAR
