BEGIN:VCALENDAR
PRODID:-//kirchenweb.ch gmbh//veranstaltungsausgabe v2.0//DE
VERSION:2.0
METHOD:PUBLISH
BEGIN:VEVENT
DTSTART:20241111T154500Z
DTEND:20241111T163000Z
LOCATION:Kirche\, Platte\, 8800 Thalwil
TRANSP:OPAQUE
SEQUENCE:0
UID:35465-veranstaltung@kirche-thalwil.ch
DTSTAMP:20241104T082138Z
DESCRIPTION:Im November etwas ganz Besonderes: Eine kurze sinnliche Feier
  zu St. Martin - mit Laternenbasteln. Anschliessend findet unser
  jähliches Martinifescht mit Laternenumzug statt. Beim Martinifescht gibt
  es Martinsweggen\, Bratwürste\, Punsch und Glüchwein auf der Platte bei
  guggemusik und Legenden zu St. Martin.\n\nFür Kinder und Geschwister von
  2 – 6 Jahren in Begleitung eines Erwachsenen.\n\nDas Fiiere mit de
  Chline-Team freut sich auf Sie und ihr(e) Kind(er).\n\nKontakt: Julia
  Matucci-Gros\n\nWeitere Infos:
  https://www.kirche-thalwil.ch/veranstaltung/35465
SUMMARY:Fiire mit de Chline am MONTAG
PRIORITY:5
X-MICROSOFT-CDO-IMPORTANCE:1
CLASS:PUBLIC
END:VEVENT
END:VCALENDAR
