BEGIN:VCALENDAR
PRODID:-//kirchenweb.ch gmbh//veranstaltungsausgabe v2.0//DE
VERSION:2.0
METHOD:PUBLISH
BEGIN:VEVENT
DTSTART:20240918T150000Z
DTEND:20240918T153000Z
LOCATION:Kirche\, Platte\, 8800 Thalwil
TRANSP:OPAQUE
SEQUENCE:0
UID:35464-veranstaltung@kirche-thalwil.ch
DTSTAMP:20240725T151434Z
DESCRIPTION:Kurze und sinnliche Feiern\, die berühren. Gemeinsam singen\,
  basteln und Gemeinschaft erleben für Kinder mit einer Begleitperson.\n
 \nFür Kinder von 2 – 6 Jahren in Begleitung eines Erwachsenen.\n\nDas
  Fiiere mit de Chline-Team freut sich auf Sie und ihr(e) Kind(er).\n
 \nKontakt: Julia Matucci-Gros\n\nWeitere Infos:
  https://www.kirche-thalwil.ch/veranstaltung/35464
SUMMARY:Fiire mit de Chline
PRIORITY:5
X-MICROSOFT-CDO-IMPORTANCE:1
CLASS:PUBLIC
END:VEVENT
END:VCALENDAR
