BEGIN:VCALENDAR
PRODID:-//kirchenweb.ch gmbh//veranstaltungsausgabe v2.0//DE
VERSION:2.0
METHOD:PUBLISH
BEGIN:VEVENT
DTSTART:20240920T070000Z
DTEND:20240920T090000Z
LOCATION:Kirchgemeindehaus\, Alte Landstrasse 93a\, 8800 Thalwil
TRANSP:OPAQUE
SEQUENCE:0
UID:34846-veranstaltung@kirche-thalwil.ch
DTSTAMP:20240719T112913Z
DESCRIPTION:Für Kinder ab 1 1/2 bis 4 Jahren. \nGemeinsam singen und
  musizieren Kinder mit ihren Müttern\, Vätern\, Grosseltern oder\neiner
  anderen Bezugsperson.\n \nKursleitung und Auskunft bei Merlin Mattheeuws.
 \n \n\n\nKontakt: Merlin Mattheeuws\n\nWeitere Infos:
  https://www.kirche-thalwil.ch/veranstaltung/34846
SUMMARY:Eltern-Kind-Singen
PRIORITY:5
X-MICROSOFT-CDO-IMPORTANCE:1
CLASS:PUBLIC
END:VEVENT
END:VCALENDAR
