BEGIN:VCALENDAR
PRODID:-//kirchenweb.ch gmbh//veranstaltungsausgabe v2.0//DE
VERSION:2.0
METHOD:PUBLISH
BEGIN:VEVENT
DTSTART:20241119T160000Z
DTEND:20241119T180000Z
LOCATION:Kirchgemeindehaus Thalwil\, \,
TRANSP:OPAQUE
SEQUENCE:0
UID:34660-veranstaltung@kirche-thalwil.ch
DTSTAMP:20240703T141339Z
DESCRIPTION:Mut kann ansteckend wirken!\n\nEine tapfere\, entschlossene
  Frau geht ihren eigenen Weg. Wir entdecken an diesen Abend die
  eindrückliche Geschichte von Florence Nightingale und fragen uns\, was
  sie mit uns zu tun hat.\n\nKontakt: Ursina Walther\n\nWeitere Infos:
  https://www.kirche-thalwil.ch/veranstaltung/34660
SUMMARY:JuKi - Lady with the Lamp
PRIORITY:5
X-MICROSOFT-CDO-IMPORTANCE:1
CLASS:PUBLIC
END:VEVENT
END:VCALENDAR
