BEGIN:VCALENDAR
PRODID:-//kirchenweb.ch gmbh//veranstaltungsausgabe v2.0//DE
VERSION:2.0
METHOD:PUBLISH
BEGIN:VEVENT
DTSTART:20241031T183000Z
DTEND:20241031T200000Z
LOCATION:Musikschulhaus Thalwil\, Feldstrasse 5\, Saal im 2. OG\, \,
TRANSP:OPAQUE
SEQUENCE:0
UID:34659-veranstaltung@kirche-thalwil.ch
DTSTAMP:20240703T140542Z
DESCRIPTION:Einmal in einer grossen Gruppe von ca. 20 Leuten mitsingen\,
  mehrstimmige Songs\, groovige Tunes\, sanfte Balladen lernen und
  interpretieren. Mit den Mitgliedern des Jugendchors Thalwil besuchst du
  zwei Proben und kannst danach im Rahmen des grossen H2OT-Gottesdienstes
  in Thalwil auftreten.\n\n \nAufführung:\nSonntag\, 3. November 2024\,
  Reformierte Kirche\n9 Uhr Einsingen\n10 Uhr Gottesdienst\n\n \nProben:
 \nDonnerstag\, 24. Oktober und 31. Oktober\n19.30-21 Uhr\nMusikschulhaus
  Thalwil\, Feldstrasse 5\, Saal im 2. OG\n\n\nVoraussetzungen:\nFreude am
  Singen\, Mut\, die eigene Stimme zu brauchen\, Bereitschaft\, sich zu
  bewegen.\nAn allen drei Terminen mitmachen.\n\nKontakt: Gabriela Schöb\n
 \nWeitere Infos: https://www.kirche-thalwil.ch/veranstaltung/34659
SUMMARY:JuKi - Singen und Auftreten mit dem Jugendchor
PRIORITY:5
X-MICROSOFT-CDO-IMPORTANCE:1
CLASS:PUBLIC
END:VEVENT
END:VCALENDAR
